BEGIN:VCALENDAR
VERSION:2.0
PRODID:-//Sabre//Sabre VObject 4.5.8//EN
CALSCALE:GREGORIAN
BEGIN:VEVENT
UID:sabre-vobject-701e1e1c-9111-487e-b579-35aead80ac86
DTSTAMP:20260421T145221Z
SUMMARY:Movies on the Green: Ghostbusters: Answer the Call
DESCRIPTION:*POSTPONED TO 30 OCT. STARTING AT 7PM*\n\nMWR ain&rsquo\;t afra
 id of no ghosts!\n\nThat&rsquo\;s right! Get your proton packs ready for t
 his month&rsquo\;s Movie on the Green!\n\nRegister your family for a SAFE 
 and FUN event!\n\nCostumes are not mandatory\, but highly encouraged!\n\nT
 his Movie Night will have an extra Halloween Twist you won&rsquo\;t want t
 o miss!&nbsp\;\n\n\nEvent Guild lines:\nFace coverings are required for al
 l Guests (ages 2 and up) and Employees.\nPlease bring your own face coveri
 ngs and wear them at all times\, except when seated to watch the movie.\nY
 ou may remove your face covering while actively eating or drinking\, but y
 ou should be stationary and maintain appropriate physical distancing.\nThe
  use of face coverings is not a substitute for physical distancing.\nWe ha
 ve taken enhanced health and safety measures for you\, our other Guests\, 
 and employees. You must follow all posted instructions while visiting the 
 Blue Grass Army Depot.\nAn inherent risk of exposure to COVID-19 exists in
  any public place where people are present.\nCOVID-19 is an extremely cont
 agious disease that can lead to severe illness and death. According to the
  Centers for Disease Control and Prevention\, senior citizens and Guests w
 ith underlying medical conditions are especially vulnerable.\nBy visiting 
 BGAD you voluntarily assume all risks related to exposure to COVID-19.&nbs
 p\;\n
X-ALT-DESC:FMTTYPE=text/html:<!DOCTYPE HTML PUBLIC "-//W3C//DTD HTML 3.2//E
 N"><HTML><p>*POSTPONED TO 30 OCT. STARTING AT 7PM*</p>\n\n<p>MWR ain&rsquo
 \;t afraid of no ghosts!</p>\n\n<p>That&rsquo\;s right! Get your proton pa
 cks ready for this month&rsquo\;s Movie on the Green!</p>\n\n<p>Register y
 our family for a SAFE and FUN event!</p>\n\n<p>Costumes are not mandatory\
 , but highly encouraged!</p>\n\n<p>This Movie Night will have an extra Hal
 loween Twist you won&rsquo\;t want to miss!&nbsp\;</p>\n\n<p><br />\nEvent
  Guild lines:<br />\nFace coverings are required for all Guests (ages 2 an
 d up) and Employees.<br />\nPlease bring your own face coverings and wear 
 them at all times\, except when seated to watch the movie.<br />\nYou may 
 remove your face covering while actively eating or drinking\, but you shou
 ld be stationary and maintain appropriate physical distancing.<br />\nThe 
 use of face coverings is not a substitute for physical distancing.<br />\n
 We have taken enhanced health and safety measures for you\, our other Gues
 ts\, and employees. You must follow all posted instructions while visiting
  the Blue Grass Army Depot.<br />\nAn inherent risk of exposure to COVID-1
 9 exists in any public place where people are present.<br />\nCOVID-19 is 
 an extremely contagious disease that can lead to severe illness and death.
  According to the Centers for Disease Control and Prevention\, senior citi
 zens and Guests with underlying medical conditions are especially vulnerab
 le.<br />\nBy visiting BGAD you voluntarily assume all risks related to ex
 posure to COVID-19.&nbsp\;</p>\n</HTML>
CREATED;TZID=America/New_York:20201022T131723
URL;VALUE=URI:https://bluegrass.armymwr.com/calendar/event
DTSTART;TZID=America/New_York:20201030T190000
DTEND;TZID=America/New_York:20201030T210000
SEQUENCE:0
END:VEVENT
END:VCALENDAR
