BEGIN:VCALENDAR
VERSION:2.0
PRODID:-//Sabre//Sabre VObject 4.5.8//EN
CALSCALE:GREGORIAN
BEGIN:VEVENT
UID:sabre-vobject-711e948c-ba00-4a7f-b454-5bc318d295c2
DTSTAMP:20260422T111256Z
SUMMARY:Spooktacular Pumpkin Carving Contest 
DESCRIPTION:Open to all Depot Employees!\n\nSubmit your pumpkin as an indiv
 idual or as a team!\n\nPlease bring all pumpkins to the Igloo Club between
  Oct 13th &ndash\; Oct 28th\n\nWinners will be announced Oct 28th\nat the 
 Halloween Luncheon&nbsp\;\n
X-ALT-DESC:FMTTYPE=text/html:<!DOCTYPE HTML PUBLIC "-//W3C//DTD HTML 3.2//E
 N"><HTML><p>Open to all Depot Employees!</p>\n\n<p>Submit your pumpkin as 
 an individual or as a team!</p>\n\n<p>Please bring all pumpkins to the Igl
 oo Club between Oct 13th &ndash\; Oct 28th</p>\n\n<p>Winners will be annou
 nced Oct 28th<br />\nat the Halloween Luncheon&nbsp\;</p>\n</HTML>
CREATED;TZID=America/New_York:20201014T090256
URL;VALUE=URI:https://bluegrass.armymwr.com/calendar/event
DTSTART;TZID=America/New_York:20201028T110000
DTEND;TZID=America/New_York:20201028T130000
SEQUENCE:0
END:VEVENT
END:VCALENDAR
