BEGIN:VCALENDAR
VERSION:2.0
PRODID:-//Sabre//Sabre VObject 4.5.8//EN
CALSCALE:GREGORIAN
BEGIN:VEVENT
UID:sabre-vobject-0eb45b7b-9d5f-47cb-a765-95e6a8598d80
DTSTAMP:20260421T054105Z
SUMMARY:Free Fishing For Veterans 
DESCRIPTION:We are waiving our fishing fee and opening our lakes to the Vet
 erans!&nbsp\;\n\nCome and enjoy a day on us!&nbsp\;\n\n*Free fishing is on
 ly available to Veterans on Veterans Day*&nbsp\;\n
X-ALT-DESC:FMTTYPE=text/html:<!DOCTYPE HTML PUBLIC "-//W3C//DTD HTML 3.2//E
 N"><HTML><p>We are waiving our fishing fee and opening our lakes to the Ve
 terans!&nbsp\;</p>\n\n<p>Come and enjoy a day on us!&nbsp\;</p>\n\n<p>*Fre
 e fishing is only available to Veterans on Veterans Day*&nbsp\;</p>\n</HTM
 L>
CREATED;TZID=America/New_York:20201109T104026
URL;VALUE=URI:https://bluegrass.armymwr.com/calendar/event
DTSTART;TZID=America/New_York:20201111T000000
DTEND;TZID=America/New_York:20201111T235959
SEQUENCE:0
END:VEVENT
END:VCALENDAR
